Workbook

Sheet Sheet1
A1: 2022년도 세입.세출 예산
M2: (단위:천원)
A4: 세 입 | H4: 세 출
A5: 관 | B5: 항 | C5: 목 | D5: 2021(A) | E5: 2022(B) | F5: 증 감(B)-(A) | H5: 관 | I5: 항 | J5: 목 | K5: 2021(A) | L5: 2022(B) | M5: 증 감(B)-(A)
F6: 금 액 | G6: 비 율 (%) | M6: 금 액 | N6: 비 율 (%)
A7: 총계 | D7: =D8+D14+D17 -> 1149861.7 | E7: =E8+E14+E17 -> 1222311.7 | F7: =E7-D7 -> 72450.075 | G7: =IF(AND(D7=0,F7=0),"0.0",IF(AND(D7=0,F7>0),"100.0",F7/D7*100)) -> 6.3007644 | H7: 총계 | K7: 1149861.7 | L7: =L8+L22+L25+L28+L31+L34+1 -> 1222312.7 | M7: =L7-K7 -> 72451.075 | N7: =IF(AND(K7=0,M7=0),"0.0",IF(AND(K7=0,M7>0),"100.0",M7/K7*100)) -> 6.3008514
A8: 사업수입(01) | D8: =D9 -> 1040436 | E8: =E9 -> 1104828 | F8: =E8-D8 -> 64392 | G8: =IF(AND(D8=0,F8=0),"0.0",IF(AND(D8=0,F8>0),"100.0",F8/D8*100)) -> 6.1889439 | H8: 사무비(01) | K8: 1028129.7 | L8: =L9+L18+L16 -> 1127006.8 | M8: =L8-K8 -> 98877.041 | N8: =IF(AND(K8=0,M8=0),"0.0",IF(AND(K8=0,M8>0),"100.0",M8/K8*100)) -> 9.6171756
B9: 사업수입(11) | D9: =SUM(D10:D13) -> 1040436 | E9: =SUM(E10:E13) -> 1104828 | F9: =E9-D9 -> 64392 | G9: =IF(AND(D9=0,F9=0),"0.0",IF(AND(D9=0,F9>0),"100.0",F9/D9*100)) -> 6.1889439 | I9: 인건비(11) | K9: 1020445.3 | L9: =SUM(L10:L15) -> 1114954.8 | M9: =L9-K9 -> 94509.478 | N9: =IF(AND(K9=0,M9=0),"0.0",IF(AND(K9=0,M9>0),"100.0",M9/K9*100)) -> 9.2615919
C10: 정부지원금 | D10: =[1]세입!D7 -> 958752 | E10: =[1]세입!E7 -> 1030428 | F10: =E10-D10 -> 71676 | G10: =IF(AND(D10=0,F10=0),"0.0",IF(AND(D10=0,F10>0),"100.0",F10/D10*100)) -> 7.4759688 | J10: 급여 | K10: 822732 | L10: =[1]세출!U8 -> 899151 | M10: =L10-K10 -> 76419 | N10: =IF(AND(K10=0,M10=0),"0.0",IF(AND(K10=0,M10>0),"100.0",M10/K10*100)) -> 9.2884439
C11: 가산수당 | D11: =[1]세입!D8 -> 8136 | E11: =[1]세입!E8 -> 8400 | F11: =E11-D11 -> 264 | G11: =IF(AND(D11=0,F11=0),"0.0",IF(AND(D11=0,F11>0),"100.0",F11/D11*100)) -> 3.2448378 | J11: 제수당 | K11: 5297 | L11: =[1]세출!U11 -> 6734.3162 | M11: =L11-K11 -> 1437.3162 | N11: =IF(AND(K11=0,M11=0),"0.0",IF(AND(K11=0,M11>0),"100.0",M11/K11*100)) -> 27.134532
C12: 일자리안정자금 | D12: =[1]세입!D9 -> 9756 | E12: =[1]세입!E9 -> 0 | F12: =E12-D12 -> -9756 | G12: =IF(AND(D12=0,F12=0),"0.0",IF(AND(D12=0,F12>0),"100.0",F12/D12*100)) -> -100 | J12: 교통비 | K12: 64620 | L12: =[1]세출!U15 -> 66000 | M12: =L12-K12 -> 1380 | N12: =IF(AND(K12=0,M12=0),"0.0",IF(AND(K12=0,M12>0),"100.0",M12/K12*100)) -> 2.1355617
C13: 교통비 | D13: =[1]세입!D10 -> 63792 | E13: =[1]세입!E10 -> 66000 | F13: =E13-D13 -> 2208 | G13: =IF(AND(D13=0,F13=0),"0.0",IF(AND(D13=0,F13>0),"100.0",F13/D13*100)) -> 3.4612491 | J13: 퇴직적립금 | K13: 68330.333 | L13: =[1]세출!U17 -> 75490.443 | M13: =L13-K13 -> 7160.1097 | N13: =IF(AND(K13=0,M13=0),"0.0",IF(AND(K13=0,M13>0),"100.0",M13/K13*100)) -> 10.478669
A14: 이월금(07) | D14: =D15 -> 105265.66 | E14: =E15 -> 113383.74 | F14: =E14-D14 -> 8118.075 | G14: =IF(AND(D14=0,F14=0),"0.0",IF(AND(D14=0,F14>0),"100.0",F14/D14*100)) -> 7.7119876 | J14: 사대보험 | K14: 52445.955 | L14: =[1]세출!U20 -> 59329.007 | M14: =L14-K14 -> 6883.0522 | N14: =IF(AND(K14=0,M14=0),"0.0",IF(AND(K14=0,M14>0),"100.0",M14/K14*100)) -> 13.124086
B15: 이월금(71) | D15: =D16 -> 105265.66 | E15: =E16 -> 113383.74 | F15: =E15-D15 -> 8118.075 | G15: =IF(AND(D15=0,F15=0),"0.0",IF(AND(D15=0,F15>0),"100.0",F15/D15*100)) -> 7.7119876 | J15: 복리후생 | K15: 7020 | L15: =[1]세출!U37 -> 8250 | M15: =L15-K15 -> 1230 | N15: =IF(AND(K15=0,M15=0),"0.0",IF(AND(K15=0,M15>0),"100.0",M15/K15*100)) -> 17.521368
C16: 전년도이월금 | D16: =[1]세입!D11 -> 105265.66 | E16: =[1]세입!E11 -> 113383.74 | F16: =E16-D16 -> 8118.075 | G16: =IF(AND(D16=0,F16=0),"0.0",IF(AND(D16=0,F16>0),"100.0",F16/D16*100)) -> 7.7119876 | I16: 업무추진비(12) | K16: 1000 | L16: =L17 -> 1000 | M16: =L16-K16 -> 0 | N16: =IF(AND(K16=0,M16=0),"0.0",IF(AND(K16=0,M16>0),"100.0",M16/K16*100)) -> 0
A17: 잡수입(08) | D17: =D18 -> 4160 | E17: =E18 -> 4100 | F17: =E17-D17 -> -60 | G17: =IF(AND(D17=0,F17=0),"0.0",IF(AND(D17=0,F17>0),"100.0",F17/D17*100)) -> -1.4423077 | J17: 회의비 | K17: 1000 | L17: =[1]세출!U43 -> 1000 | M17: =L17-K17 -> 0 | N17: =IF(AND(K17=0,M17=0),"0.0",IF(AND(K17=0,M17>0),"100.0",M17/K17*100)) -> 0
B18: 잡수입(81) | D18: =SUM(D19:D20) -> 4160 | E18: =SUM(E19:E20) -> 4100 | F18: =E18-D18 -> -60 | G18: =IF(AND(D18=0,F18=0),"0.0",IF(AND(D18=0,F18>0),"100.0",F18/D18*100)) -> -1.4423077 | I18: 운영비(13) | K18: 6684.437 | L18: =SUM(L19:L21) -> 11052 | M18: =L18-K18 -> 4367.563 | N18: =IF(AND(K18=0,M18=0),"0.0",IF(AND(K18=0,M18>0),"100.0",M18/K18*100)) -> 65.33928
C19: 예금이자수입 | D19: =[1]세입!D16 -> 120 | E19: =[1]세입!E16 -> 100 | F19: =E19-D19 -> -20 | G19: =IF(AND(D19=0,F19=0),"0.0",IF(AND(D19=0,F19>0),"100.0",F19/D19*100)) -> -16.666667 | J19: 제세공과금 | K19: 5843.837 | L19: =[1]세출!U46 -> 7052 | M19: =L19-K19 -> 1208.163 | N19: =IF(AND(K19=0,M19=0),"0.0",IF(AND(K19=0,M19>0),"100.0",M19/K19*100)) -> 20.674139
C20: 기타잡수입 | D20: =[1]세입!D17 -> 4040 | E20: =[1]세입!E17 -> 4000 | F20: =E20-D20 -> -40 | G20: =IF(AND(D20=0,F20=0),"0.0",IF(AND(D20=0,F20>0),"100.0",F20/D20*100)) -> -0.99009901 | J20: 차량비 | K20: 735 | L20: =[1]세출!U55 -> 3600 | M20: =L20-K20 -> 2865 | N20: =IF(AND(K20=0,M20=0),"0.0",IF(AND(K20=0,M20>0),"100.0",M20/K20*100)) -> 389.79592
J21: 여비 | K21: 105.6 | L21: =[1]세출!U58 -> 400 | M21: =L21-K21 -> 294.4 | N21: =IF(AND(K21=0,M21=0),"0.0",IF(AND(K21=0,M21>0),"100.0",M21/K21*100)) -> 278.78788
H22: 재산조성비(02) | K22: 1083 | L22: =L23 -> 2000 | M22: =L22-K22 -> 917 | N22: =IF(AND(K22=0,M22=0),"0.0",IF(AND(K22=0,M22>0),"100.0",M22/K22*100)) -> 84.672207
I23: 시설비(21) | K23: 1083 | L23: =L24 -> 2000 | M23: =M24 -> 917 | N23: =IF(AND(K23=0,M23=0),"0.0",IF(AND(K23=0,M23>0),"100.0",M23/K23*100)) -> 84.672207
J24: 자산취득비 | K24: 1083 | L24: =[1]세출!U62 -> 2000 | M24: =L24-K24 -> 917 | N24: =IF(AND(K24=0,M24=0),"0.0",IF(AND(K24=0,M24>0),"100.0",M24/K24*100)) -> 84.672207
H25: 사업비(03) | K25: 7265.2 | L25: =L26 -> 11519 | M25: =M26 -> 2802.5 | N25: =IF(AND(K25=0,M25=0),"0.0",IF(AND(K25=0,M25>0),"100.0",M25/K25*100)) -> 38.574299
I26: 사업비(31) | K26: 7265.2 | L26: =L27 -> 11519 | M26: =M27 -> 2802.5 | N26: =IF(AND(K26=0,M26=0),"0.0",IF(AND(K26=0,M26>0),"100.0",M26/K26*100)) -> 38.574299
J27: 활동지원사업비 | K27: 7265.2 | L27: =[1]세출!U65 -> 11519 | M27: =L27-8716.5 -> 2802.5 | N27: =IF(AND(K27=0,M27=0),"0.0",IF(AND(K27=0,M27>0),"100.0",M27/K27*100)) -> 38.574299
H28: 예비비(07) | K28: 113383.74 | L28: =L30 -> 71785.974 | M28: =L28-K28 -> -41597.766 | N28: =IF(AND(K28=0,M28=0),"0.0",IF(AND(K28=0,M28>0),"100.0",M28/K28*100)) -> -36.687594
I29: 예비비(71) | K29: 113383.74 | L29: =L30 -> 71785.974 | M29: =M30 -> -41597.766 | N29: =IF(AND(K29=0,M29=0),"0.0",IF(AND(K29=0,M29>0),"100.0",M29/K29*100)) -> -36.687594
J30: 예비비 | K30: 113383.74 | L30: =[1]세출!U77 -> 71785.974 | M30: =L30-K30 -> -41597.766 | N30: =IF(AND(K30=0,M30=0),"0.0",IF(AND(K30=0,M30>0),"100.0",M30/K30*100)) -> -36.687594
H31: 전출금 | K31: 0 | L31: =L32 -> 10000 | M31: =L31-K31 -> 10000 | N31: =IF(AND(K31=0,M31=0),"0.0",IF(AND(K31=0,M31>0),"100.0",M31/K31*100)) -> 100.0
I32: 전출금 | K32: 0 | L32: =L33 -> 10000 | M32: =L32-K32 -> 10000 | N32: =IF(AND(K32=0,M32=0),"0.0",IF(AND(K32=0,M32>0),"100.0",M32/K32*100)) -> 100.0
J33: 전출금 | K33: 0 | L33: =[1]세출!U80 -> 10000 | M33: =L33-K33 -> 10000 | N33: =IF(AND(K33=0,M33=0),"0.0",IF(AND(K33=0,M33>0),"100.0",M33/K33*100)) -> 100.0
H34: 차기이월금 | K34: 0 | L34: =L35 -> 0 | M34: =L34-K34 -> 0 | N34: =IF(AND(K34=0,M34=0),"0.0",IF(AND(K34=0,M34>0),"100.0",M34/K34*100)) -> 0.0
I35: 차기이월금 | K35: 0 | L35: =L36 -> 0 | M35: =L35-K35 -> 0 | N35: =IF(AND(K35=0,M35=0),"0.0",IF(AND(K35=0,M35>0),"100.0",M35/K35*100)) -> 0.0
J36: 차기이월금 | K36: 0 | L36: =[1]세출!E85 -> 0 | M36: =L36-K36 -> 0 | N36: =IF(AND(K36=0,M36=0),"0.0",IF(AND(K36=0,M36>0),"100.0",M36/K36*100)) -> 0.0
