Workbook

Sheet Sheet1
A1: 2021년도 세입.세출 예산
M2: (단위:천원)
A4: 세 입 | H4: 세 출
A5: 관 | B5: 항 | C5: 목 | D5: 2020(A) | E5: 2021(B) | F5: 증 감(B)-(A) | H5: 관 | I5: 항 | J5: 목 | K5: 2020(A) | L5: 2021(B) | M5: 증 감(B)-(A)
F6: 금 액 | G6: 비 율 (%) | M6: 금 액 | N6: 비 율 (%)
A7: 총계 | D7: 873307 | E7: =E8+E14+E17 -> 913510.41 | F7: =E7-D7 -> 40203.406 | G7: =F7/D7*100 -> 4.6035822 | H7: 총계 | K7: =SUM(K8,K22,K25,K28,K31,K34) -> 873307 | L7: =L8+L25+L28+L34+L31+L22 -> 913510.41 | M7: =L7-K7 -> 40203.406 | N7: =M7/K7*100 -> 4.6035822
A8: 사업수입(01) | D8: 778578 | E8: =E9 -> 809640 | F8: =E8-D8 -> 31062 | G8: =F8/D8*100 -> 3.989581 | H8: 사무비(01) | K8: =SUM(K9,K16,K18)-1 -> 727915 | L8: =L9+L18+L16 -> 795134.48 | M8: =L8-K8 -> 67219.48 | N8: =M8/K8*100 -> 9.2345232
B9: 사업수입(11) | D9: 778578 | E9: =SUM(E10:E13) -> 809640 | F9: =E9-D9 -> 31062 | G9: =F9/D9*100 -> 3.989581 | I9: 인건비(11) | K9: =SUM(K10:K15) -> 721494 | L9: =SUM(L10:L15) -> 784265.84 | M9: =L9-K9 -> 62771.84 | N9: =M9/K9*100 -> 8.700258
C10: 정부지원금 | D10: 719050 | E10: =[1]세입!E7 -> 757080 | F10: =E10-D10 -> 38030 | G10: =F10/D10*100 -> 5.2889229 | J10: 급여 | K10: 599900 | L10: =[1]세출!U8 -> 650977.2 | M10: =L10-K10 -> 51077.2 | N10: =M10/K10*100 -> 8.5142857
C11: 가산수당 | D11: 5699 | E11: =[1]세입!E8 -> 7560 | F11: =E11-D11 -> 1861 | G11: =F11/D11*100 -> 32.654852 | J11: 제수당 | K11: 0 | L11: =[1]세출!U11 -> 4206.5604 | M11: =L11-K11 -> 4206.5604 | N11: 0
C12: 일자리안정자금 | D12: 25734 | E12: =[1]세입!E9 -> 15000 | F12: =E12-D12 -> -10734 | G12: =F12/D12*100 -> -41.711355 | J12: 교통비 | K12: 30864 | L12: =[1]세출!U14 -> 30000 | M12: =L12-K12 -> -864 | N12: =M12/K12*100 -> -2.7993779
C13: 교통비 | D13: 28096 | E13: =[1]세입!E10 -> 30000 | F13: =E13-D13 -> 1904 | G13: =F13/D13*100 -> 6.7767654 | J13: 퇴직적립금 | K13: 49992 | L13: =[1]세출!U16 -> 52364.7 | M13: =L13-K13 -> 2372.7 | N13: =M13/K13*100 -> 4.7461594
A14: 이월금(07) | D14: 90130 | E14: =E15 -> 100770.41 | F14: =E14-D14 -> 10640.406 | G14: =F14/D14*100 -> 11.805621 | J14: 사대보험 | K14: 37078 | L14: =[1]세출!U19 -> 39817.379 | M14: =L14-K14 -> 2739.3792 | N14: =M14/K14*100 -> 7.3881525
B15: 이월금(71) | D15: 90130.216 | E15: =E16 -> 100770.41 | F15: =E15-D15 -> 10640.19 | G15: =F15/D15*100 -> 11.805353 | J15: 복리후생 | K15: 3660 | L15: =[1]세출!U36 -> 6900 | M15: =L15-K15 -> 3240 | N15: =M15/K15*100 -> 88.52459
C16: 전년도이월금 | D16: 90130.216 | E16: =[1]세입!E11 -> 100770.41 | F16: =E16-D16 -> 10640.19 | G16: =F16/D16*100 -> 11.805353 | I16: 업무추진비(12) | K16: =K17 -> 848 | L16: =L17 -> 1000 | M16: =L16-K16 -> 152 | N16: =M16/K16*100 -> 17.924528
A17: 잡수입(08) | D17: 4598 | E17: =E18 -> 3100 | F17: =E17-D17 -> -1498 | G17: =F17/D17*100 -> -32.579382 | J17: 회의비 | K17: 848 | L17: =[1]세출!U42 -> 1000 | M17: =L17-K17 -> 152 | N17: =M17/K17*100 -> 17.924528
B18: 잡수입(81) | D18: 4598 | E18: =SUM(E19:E20) -> 3100 | F18: =E18-D18 -> -1498 | G18: =F18/D18*100 -> -32.579382 | I18: 운영비(13) | K18: =SUM(K19:K21) -> 5574 | L18: =SUM(L19:L21) -> 9868.64 | M18: =L18-K18 -> 4294.64 | N18: =M18/K18*100 -> 77.047722
C19: 예금이자수입 | D19: 93 | E19: =[1]세입!E16 -> 100 | F19: =E19-D19 -> 7 | G19: =F19/D19*100 -> 7.5268817 | J19: 제세공과금 | K19: 5160 | L19: =[1]세출!U45 -> 6068.64 | M19: =L19-K19 -> 908.64 | N19: =M19/K19*100 -> 17.609302
C20: 기타잡수입 | D20: 4506 | E20: =[1]세입!E17 -> 3000 | F20: =E20-D20 -> -1506 | G20: =F20/D20*100 -> -33.422104 | J20: 차량비 | K20: 309 | L20: =[1]세출!U53 -> 3600 | M20: =L20-K20 -> 3291 | N20: =M20/K20*100 -> 1065.0485
J21: 여비 | K21: 105 | L21: =[1]세출!U56 -> 200 | M21: =L21-K21 -> 95 | N21: =M21/K21*100 -> 90.47619
H22: 재산조성비(02) | K22: =K23 -> 4950 | L22: =L23 -> 0 | M22: =L22-K22 -> -4950 | N22: =M22/K22*100 -> -100
I23: 시설비(21) | K23: =K24 -> 4950 | L23: =L24 -> 0 | M23: =M24 -> -4950 | N23: =M23/K23*100 -> -100
J24: 자산취득비 | K24: 4950 | L24: =[1]세출!U60 -> 0 | M24: =L24-K24 -> -4950 | N24: =M24/K24*100 -> -100
H25: 사업비(03) | K25: =K26 -> 4672 | L25: =L26 -> 8716.5 | M25: =L25-K25 -> 4044.5 | N25: =M25/K25*100 -> 86.568921
I26: 사업비(31) | K26: =K27 -> 4672 | L26: =L27 -> 8716.5 | M26: =L26-K26 -> 4044.5 | N26: =M26/K26*100 -> 86.568921
J27: 활동지원사업비 | K27: 4672 | L27: =[1]세출!U63 -> 8716.5 | M27: =L27-K27 -> 4044.5 | N27: =M27/K27*100 -> 86.568921
H28: 예비비(07) | K28: =K29 -> 0 | L28: =L29 -> 99659.426 | M28: =L28-K28 -> 99659.426 | N28: 0
I29: 예비비(71) | K29: =K30 -> 0 | L29: =L30 -> 99659.426 | M29: =M30 -> 99659.426 | N29: 0
J30: 예비비 | K30: 0 | L30: =[1]세출!U74 -> 99659.426 | M30: =L30-K30 -> 99659.426 | N30: 0
H31: 전출금 | K31: =K32 -> 35000 | L31: =L32 -> 10000 | M31: =L31-K31 -> -25000 | N31: =M31/K31*100 -> -71.428571
I32: 전출금 | K32: =K33 -> 35000 | L32: =L33 -> 10000 | M32: =L32-K32 -> -25000 | N32: =M32/K32*100 -> -71.428571
J33: 전출금 | K33: 35000 | L33: =[1]세출!U77 -> 10000 | M33: =L33-K33 -> -25000 | N33: =M33/K33*100 -> -71.428571
H34: 차기이월금 | K34: =K35 -> 100770 | L34: =L35 -> 0 | M34: =L34-K34 -> -100770 | N34: =M34/K34*100 -> -100
I35: 차기이월금 | K35: =K36 -> 100770 | L35: =L36 -> 0 | M35: =L35-K35 -> -100770 | N35: =M35/K35*100 -> -100
J36: 차기이월금 | K36: 100770 | L36: =[1]세출!E82 -> 0 | M36: =L36-K36 -> -100770 | N36: =M36/K36*100 -> -100
