Workbook

Sheet Sheet1
A1: 2020년도 세입·세출 결산
M2: (단위:천원)
A4: 세 입 | H4: 세 출
A5: 관 | B5: 항 | C5: 목 | D5: 2020(A) | E5: 2020(B) | F5: 증 감(B)-(A) | H5: 관 | I5: 항 | J5: 목 | K5: 2020(A) | L5: 2020(B) | M5: 증 감(B)-(A)
F6: 금 액 | G6: 비 율 | M6: 금 액 | N6: 비 율
A7: 총계 | D7: =SUM(D8,D14,D17) -> 873307.04 | E7: =E8+E14+E17 -> 884118.62 | F7: =E7-D7 -> 10811.583 | G7: =F7/D7*100 -> 1.2380048 | H7: 총계 | K7: =K8+K24+K27+K33+K30+1+K21-1 -> 873306.63 | L7: =L8+L24+L27+L33+L30+L21+1 -> 884119.44 | M7: =L7-K7-1 -> 10811.81 | N7: =M7/K7*100 -> 1.2380313
A8: 사업수입(01) | D8: =SUM(D9) -> 778578.48 | E8: =E9 -> 789379.34 | F8: =E8-D8 -> 10800.864 | G8: =F8/D8*100 -> 1.3872544 | H8: 사무비(01) | K8: =K9+K17+K15 -> 727915.07 | L8: =L9+L17+L15 -> 734021.21 | M8: =L8-K8 -> 6106.1447 | N8: =M8/K8*100 -> 0.838854
B9: 사업수입(11) | D9: =SUM(D10:D13) -> 778578.48 | E9: =SUM(E10:E13) -> 789379.34 | F9: =E9-D9 -> 10800.864 | G9: =F9/D9*100 -> 1.3872544 | I9: 인건비(11) | K9: =SUM(K10:K14) -> 721493.65 | L9: =SUM(L10:L14) -> 727093.71 | M9: =L9-K9 -> 5600.0597 | N9: =M9/K9*100 -> 0.77617588
C10: 정부지원금 | D10: =[1]세입!D7 -> 719049.84 | E10: =[1]세입!E7 -> 725489.4 | F10: =E10-D10 -> 6439.56 | G10: =F10/D10*100 -> 0.89556518 | J10: 급여 | K10: =[1]세출!D8 -> 599900.4 | L10: =[1]세출!E8 -> 604037.58 | M10: =L10-K10 -> 4137.18 | N10: =M10/K10*100 -> 0.68964448
C11: 가산수당 | D11: =[1]세입!D8 -> 5698.8 | E11: =[1]세입!E8 -> 5707.2 | F11: =E11-D11 -> 8.4 | G11: =F11/D11*100 -> 0.14739945 | J11: 교통비 | K11: =[1]세출!D10 -> 30864 | L11: =[1]세출!E10 -> 31380 | M11: =L11-K11 -> 516 | N11: =M11/K11*100 -> 1.6718507
C12: 일자리안정자금 | D12: =[1]세입!D9 -> 25733.88 | E12: =[1]세입!E9 -> 26802.744 | F12: =E12-D12 -> 1068.864 | G12: 100 | J12: 퇴직적립금 | K12: =[1]세출!D12 -> 49991.7 | L12: =[1]세출!E12 -> 50213.69 | M12: =L12-K12 -> 221.99 | N12: =M12/K12*100 -> 0.44405371
C13: 교통비 | D13: =[1]세입!D10 -> 28095.96 | E13: =[1]세입!E10 -> 31380 | F13: =E13-D13 -> 3284.04 | G13: =F13/D13*100 -> 11.688656 | J13: 사대보험 | K13: =[1]세출!D14 -> 37077.546 | L13: =[1]세출!E14 -> 37802.436 | M13: =L13-K13 -> 724.88968 | N13: =M13/K13*100 -> 1.9550638
A14: 이월금(07) | D14: =D15 -> 90130.216 | E14: =E15 -> 90130.216 | F14: =E14-D14 -> 0 | G14: =F14/D14*100 -> 0 | J14: 복리후생 | K14: =[1]세출!D23 -> 3660 | L14: =[1]세출!E23 -> 3660 | M14: =L14-K14 -> 0 | N14: =M14/K14*100 -> 0
B15: 이월금(71) | D15: =D16 -> 90130.216 | E15: =E16 -> 90130.216 | F15: =E15-D15 -> 0 | G15: =F15/D15*100 -> 0 | I15: 업무추진비(12) | K15: =K16 -> 848 | L15: =L16 -> 1109 | M15: =L15-K15 -> 261 | N15: =M15/K15*100 -> 30.778302
C16: 전년도이월금 | D16: =[1]세입!D11 -> 90130.216 | E16: =[1]세입!E11 -> 90130.216 | F16: =E16-D16 -> 0 | G16: =F16/D16*100 -> 0 | J16: 회의비 | K16: =[1]세출!D28 -> 848 | L16: =[1]세출!E28 -> 1109 | M16: =L16-K16 -> 261 | N16: =M16/K16*100 -> 30.778302
A17: 잡수입(08) | D17: =D18 -> 4598.339 | E17: =E18 -> 4609.058 | F17: =E17-D17 -> 10.719 | G17: =F17/D17*100 -> 0.23310591 | I17: 운영비(13) | K17: =SUM(K18:K20) -> 5573.423 | L17: =SUM(L18:L20) -> 5818.508 | M17: =L17-K17 -> 245.085 | N17: =M17/K17*100 -> 4.3973874
B18: 잡수입(81) | D18: =SUM(D19:D20) -> 4598.339 | E18: =SUM(E19:E20) -> 4609.058 | F18: =E18-D18 -> 10.719 | G18: =F18/D18*100 -> 0.23310591 | J18: 제세공과금 | K18: =[1]세출!D31 -> 5159.753 | L18: =[1]세출!E31 -> 5452.838 | M18: =L18-K18 -> 293.085 | N18: =M18/K18*100 -> 5.6802138
C19: 예금이자수입 | D19: =[1]세입!D16 -> 92.567 | E19: =[1]세입!E16 -> 103.24 | F19: =E19-D19 -> 10.673 | G19: =F19/D19*100 -> 11.530027 | J19: 차량비 | K19: =[1]세출!D39 -> 309.07 | L19: =[1]세출!E39 -> 309.07 | M19: =L19-K19 -> 0 | N19: =M19/K19*100 -> 0
C20: 기타잡수입 | D20: =[1]세입!D17 -> 4505.772 | E20: =[1]세입!E17 -> 4505.818 | F20: =E20-D20 -> 0.046 | G20: 0 | J20: 여비 | K20: =[1]세출!D42 -> 104.6 | L20: =[1]세출!E42 -> 56.6 | M20: =L20-K20 -> -48 | N20: =M20/K20*100 -> -45.889101
H21: 재산조성비(02) | K21: =K22 -> 4950 | L21: =L22 -> 4950 | M21: =L21-K21 -> 0 | N21: =M21/K21*100 -> 0
I22: 시설비(21) | K22: =K23 -> 4950 | L22: =L23 -> 4950 | M22: =M23 -> 0 | N22: =M22/K22*100 -> 0
J23: 자산취득비 | K23: =[1]세출!D45 -> 4950 | L23: =[1]세출!E45 -> 4950 | M23: =L23-K23 -> 0 | N23: =M23/K23*100 -> 0
H24: 사업비(03) | K24: =K25 -> 4671.56 | L24: =L25 -> 4881.56 | M24: =L24-K24 -> 210 | N24: =M24/K24*100 -> 4.4952864
I25: 사업비(31) | K25: =K26 -> 4671.56 | L25: =L26 -> 4881.56 | M25: =L25-K25 -> 210 | N25: =M25/K25*100 -> 4.4952864
J26: 활동지원사업비 | K26: =[1]세출!D49 -> 4671.56 | L26: =[1]세출!E47 -> 4881.56 | M26: =L26-K26 -> 210 | N26: =M26/K26*100 -> 4.4952864
H27: 예비비(07) | K27: =K28 -> 0 | L27: =L28 -> 0 | M27: =L27-K27 -> 0 | N27: 0
I28: 예비비(71) | K28: =K29 -> 0 | L28: =L29 -> 0 | M28: =M29 -> 0 | N28: 0
J29: 예비비 | K29: =[1]세출!D59 -> 0 | L29: =[1]세출!E57 -> 0 | M29: =L29-K29 -> 0 | N29: 0
H30: 전출금 | K30: =K31 -> 35000 | L30: =L31 -> 35000 | M30: =L30-K30 -> 0 | N30: =M30/K30*100 -> 0
I31: 전출금 | K31: =K32 -> 35000 | L31: =L32 -> 35000 | M31: =L31-K31 -> 0 | N31: =M31/K31*100 -> 0
J32: 전출금 | K32: =[1]세출!D62 -> 35000 | L32: =[1]세출!E60 -> 35000 | M32: =L32-K32 -> 0 | N32: =M32/K32*100 -> 0
H33: 차기이월금 | K33: =K34 -> 100770 | L33: =L34 -> 105265.66 | M33: =L33-K33 -> 4495.665 | N33: =M33/K33*100 -> 4.4613129
I34: 차기이월금 | K34: =K35 -> 100770 | L34: =L35 -> 105265.66 | M34: =L34-K34 -> 4495.665 | N34: =M34/K34*100 -> 4.4613129
J35: 차기이월금 | K35: =[1]세출!D67 -> 100770 | L35: =[1]세출!E65 -> 105265.66 | M35: =L35-K35 -> 4495.665 | N35: =M35/K35*100 -> 4.4613129
