Workbook

Sheet Sheet1
A1: 2021년도 장애인활동지원 결산
M2: (단위:천원)
A4: 세 입 | H4: 세 출
A5: 관 | B5: 항 | C5: 목 | D5: 2021(A) 결산추경 | E5: 2021(B) 결산 | F5: 증 감(B)-(A) | H5: 관 | I5: 항 | J5: 목 | K5: =D5 -> 2021(A) 결산추경 | L5: =E5 -> 2021(B) 결산 | M5: 증 감(B)-(A)
F6: 금 액 | G6: 비 율 (%) | M6: 금 액 | N6: 비 율 (%)
A7: 총계 | D7: =D8+D14+D17 -> 1149861.7 | E7: =E8+E14+E17 -> 1154792.6 | F7: =E7-D7 -> 4930.971 | G7: =IF(AND(D7=0,F7=0),"0.0",IF(AND(D7=0,F7>0),"100.0",F7/D7*100)) -> 0.42883167 | H7: 총계 | K7: =K8+K22+K25+K28+K31+K34 -> 1149861.7 | L7: =L8+L25+L28+L34+L31+L22 -> 1154792.6 | M7: =L7-K7 -> 4930.9835 | N7: =IF(AND(K7=0,M7=0),"0.0",IF(AND(K7=0,M7>0),"100.0",M7/K7*100)) -> 0.42883276
A8: 사업수입(01) | D8: =D9 -> 1040436 | E8: =E9 -> 1046102.3 | F8: =E8-D8 -> 5666.268 | G8: =IF(AND(D8=0,F8=0),"0.0",IF(AND(D8=0,F8>0),"100.0",F8/D8*100)) -> 0.54460515 | H8: 사무비(01) | K8: =K9+K16+K18 -> 1028129.7 | L8: =L9+L18+L16 -> 1012309.8 | M8: =L8-K8 -> -15819.922 | N8: =IF(AND(K8=0,M8=0),"0.0",IF(AND(K8=0,M8>0),"100.0",M8/K8*100)) -> -1.5387088
B9: 사업수입(11) | D9: =SUM(D10:D13) -> 1040436 | E9: =SUM(E10:E13) -> 1046102.3 | F9: =E9-D9 -> 5666.268 | G9: =IF(AND(D9=0,F9=0),"0.0",IF(AND(D9=0,F9>0),"100.0",F9/D9*100)) -> 0.54460515 | I9: 인건비(11) | K9: =SUM(K10:K15) -> 1020445.3 | L9: =SUM(L10:L15) -> 1005210.9 | M9: =L9-K9 -> -15234.426 | N9: =IF(AND(K9=0,M9=0),"0.0",IF(AND(K9=0,M9>0),"100.0",M9/K9*100)) -> -1.4929195
C10: 정부지원금 | D10: =[1]세입!D7 -> 958752 | E10: =[1]세입!E7 -> 964417.24 | F10: =E10-D10 -> 5665.236 | G10: =IF(AND(D10=0,F10=0),"0.0",IF(AND(D10=0,F10>0),"100.0",F10/D10*100)) -> 0.59089692 | J10: 급여 | K10: =[1]세출!D8 -> 822732 | L10: =[1]세출!U8 -> 809046.24 | M10: =L10-K10 -> -13685.76 | N10: =IF(AND(K10=0,M10=0),"0.0",IF(AND(K10=0,M10>0),"100.0",M10/K10*100)) -> -1.663453
C11: 가산수당 | D11: =[1]세입!D8 -> 8136 | E11: =[1]세입!E8 -> 8414.52 | F11: =E11-D11 -> 278.52 | G11: =IF(AND(D11=0,F11=0),"0.0",IF(AND(D11=0,F11>0),"100.0",F11/D11*100)) -> 3.4233038 | J11: 제수당 | K11: =[1]세출!D11 -> 5297 | L11: =[1]세출!U11 -> 5496.372 | M11: =L11-K11 -> 199.372 | N11: =IF(AND(K11=0,M11=0),"0.0",IF(AND(K11=0,M11>0),"100.0",M11/K11*100)) -> 3.7638663
C12: 일자리안정자금 | D12: =[1]세입!D9 -> 9756 | E12: =[1]세입!E9 -> 9454.512 | F12: =E12-D12 -> -301.488 | G12: =IF(AND(D12=0,F12=0),"0.0",IF(AND(D12=0,F12>0),"100.0",F12/D12*100)) -> -3.0902829 | J12: 교통비 | K12: =[1]세출!D15 -> 64620 | L12: =[1]세출!U15 -> 63816 | M12: =L12-K12 -> -804 | N12: =IF(AND(K12=0,M12=0),"0.0",IF(AND(K12=0,M12>0),"100.0",M12/K12*100)) -> -1.2441968
C13: 교통비 | D13: =[1]세입!D10 -> 63792 | E13: =[1]세입!E10 -> 63816 | F13: =E13-D13 -> 24 | G13: =IF(AND(D13=0,F13=0),"0.0",IF(AND(D13=0,F13>0),"100.0",F13/D13*100)) -> 0.037622272 | J13: 퇴직적립금 | K13: =[1]세출!D17 -> 68330.333 | L13: =[1]세출!U17 -> 67840.18 | M13: =L13-K13 -> -490.15333 | N13: =IF(AND(K13=0,M13=0),"0.0",IF(AND(K13=0,M13>0),"100.0",M13/K13*100)) -> -0.71732905
A14: 이월금(07) | D14: =D15 -> 105265.66 | E14: =E15 -> 105265.66 | F14: =E14-D14 -> 0 | G14: =IF(AND(D14=0,F14=0),"0.0",IF(AND(D14=0,F14>0),"100.0",F14/D14*100)) -> 0 | J14: 사대보험 | K14: =[1]세출!D20 -> 52445.955 | L14: =[1]세출!U20 -> 51992.07 | M14: =L14-K14 -> -453.88512 | N14: =IF(AND(K14=0,M14=0),"0.0",IF(AND(K14=0,M14>0),"100.0",M14/K14*100)) -> -0.86543398
B15: 이월금(71) | D15: =D16 -> 105265.66 | E15: =E16 -> 105265.66 | F15: =E15-D15 -> 0 | G15: =IF(AND(D15=0,F15=0),"0.0",IF(AND(D15=0,F15>0),"100.0",F15/D15*100)) -> 0 | J15: 복리후생 | K15: =[1]세출!D37 -> 7020 | L15: =[1]세출!U37 -> 7020 | M15: =L15-K15 -> 0 | N15: =IF(AND(K15=0,M15=0),"0.0",IF(AND(K15=0,M15>0),"100.0",M15/K15*100)) -> 0
C16: 전년도이월금 | D16: =[1]세입!D13 -> 105265.66 | E16: =[1]세입!E11 -> 105265.66 | F16: =E16-D16 -> 0 | G16: =IF(AND(D16=0,F16=0),"0.0",IF(AND(D16=0,F16>0),"100.0",F16/D16*100)) -> 0 | I16: 업무추진비(12) | K16: =K17 -> 1000 | L16: =L17 -> 615.62 | M16: =L16-K16 -> -384.38 | N16: =IF(AND(K16=0,M16=0),"0.0",IF(AND(K16=0,M16>0),"100.0",M16/K16*100)) -> -38.438
A17: 잡수입(08) | D17: =D18 -> 4160 | E17: =E18 -> 3424.703 | F17: =E17-D17 -> -735.297 | G17: =IF(AND(D17=0,F17=0),"0.0",IF(AND(D17=0,F17>0),"100.0",F17/D17*100)) -> -17.675409 | J17: 회의비 | K17: =[1]세출!D44 -> 1000 | L17: =[1]세출!U43 -> 615.62 | M17: =L17-K17 -> -384.38 | N17: =IF(AND(K17=0,M17=0),"0.0",IF(AND(K17=0,M17>0),"100.0",M17/K17*100)) -> -38.438
B18: 잡수입(81) | D18: =SUM(D19:D20) -> 4160 | E18: =SUM(E19:E20) -> 3424.703 | F18: =E18-D18 -> -735.297 | G18: =IF(AND(D18=0,F18=0),"0.0",IF(AND(D18=0,F18>0),"100.0",F18/D18*100)) -> -17.675409 | I18: 운영비(13) | K18: =SUM(K19:K21) -> 6684.437 | L18: =SUM(L19:L21) -> 6483.321 | M18: =L18-K18 -> -201.116 | N18: =IF(AND(K18=0,M18=0),"0.0",IF(AND(K18=0,M18>0),"100.0",M18/K18*100)) -> -3.0087201
C19: 예금이자수입 | D19: =[1]세입!D16 -> 120 | E19: =[1]세입!E16 -> 139.512 | F19: =E19-D19 -> 19.512 | G19: =IF(AND(D19=0,F19=0),"0.0",IF(AND(D19=0,F19>0),"100.0",F19/D19*100)) -> 16.26 | J19: 제세공과금 | K19: =[1]세출!D46 -> 5843.837 | L19: =[1]세출!U46 -> 5721.921 | M19: =L19-K19 -> -121.916 | N19: =IF(AND(K19=0,M19=0),"0.0",IF(AND(K19=0,M19>0),"100.0",M19/K19*100)) -> -2.086232
C20: 기타잡수입 | D20: =[1]세입!D17 -> 4040 | E20: =[1]세입!E17 -> 3285.191 | F20: =E20-D20 -> -754.809 | G20: =IF(AND(D20=0,F20=0),"0.0",IF(AND(D20=0,F20>0),"100.0",F20/D20*100)) -> -18.683391 | J20: 차량비 | K20: =[1]세출!D54 -> 735 | L20: =[1]세출!U54 -> 735 | M20: =L20-K20 -> 0 | N20: =IF(AND(K20=0,M20=0),"0.0",IF(AND(K20=0,M20>0),"100.0",M20/K20*100)) -> 0
J21: 여비 | K21: =[1]세출!D57 -> 105.6 | L21: =[1]세출!U57 -> 26.4 | M21: =L21-K21 -> -79.2 | N21: =IF(AND(K21=0,M21=0),"0.0",IF(AND(K21=0,M21>0),"100.0",M21/K21*100)) -> -75
H22: 재산조성비(02) | K22: =K23 -> 1083 | L22: =L23 -> 1083 | M22: =L22-K22 -> 0 | N22: =IF(AND(K22=0,M22=0),"0.0",IF(AND(K22=0,M22>0),"100.0",M22/K22*100)) -> 0
I23: 시설비(21) | K23: =K24 -> 1083 | L23: =L24 -> 1083 | M23: =M24 -> 0 | N23: =IF(AND(K23=0,M23=0),"0.0",IF(AND(K23=0,M23>0),"100.0",M23/K23*100)) -> 0
J24: 자산취득비 | K24: =[1]세출!D61 -> 1083 | L24: =[1]세출!U61 -> 1083 | M24: =L24-K24 -> 0 | N24: =IF(AND(K24=0,M24=0),"0.0",IF(AND(K24=0,M24>0),"100.0",M24/K24*100)) -> 0
H25: 사업비(03) | K25: =K26 -> 7265.2 | L25: =L26 -> 5906.1 | M25: =M26 -> -2810.4 | N25: =IF(AND(K25=0,M25=0),"0.0",IF(AND(K25=0,M25>0),"100.0",M25/K25*100)) -> -38.683037
I26: 사업비(31) | K26: =K27 -> 7265.2 | L26: =L27 -> 5906.1 | M26: =M27 -> -2810.4 | N26: =IF(AND(K26=0,M26=0),"0.0",IF(AND(K26=0,M26>0),"100.0",M26/K26*100)) -> -38.683037
J27: 활동지원사업비 | K27: =[1]세출!D64 -> 7265.2 | L27: =[1]세출!U64 -> 5906.1 | M27: =L27-8716.5 -> -2810.4 | N27: =IF(AND(K27=0,M27=0),"0.0",IF(AND(K27=0,M27>0),"100.0",M27/K27*100)) -> -38.683037
H28: 예비비(07) | K28: =K29 -> 0 | L28: =L29 -> 0 | M28: =L28-K28 -> 0 | N28: =IF(AND(K28=0,M28=0),"0.0",IF(AND(K28=0,M28>0),"100.0",M28/K28*100)) -> 0.0
I29: 예비비(71) | K29: =K30 -> 0 | L29: =L30 -> 0 | M29: =M30 -> 0 | N29: =IF(AND(K29=0,M29=0),"0.0",IF(AND(K29=0,M29>0),"100.0",M29/K29*100)) -> 0.0
J30: 예비비 | K30: =[1]세출!D75 -> 0 | L30: =[1]세출!U75 -> 0 | M30: =L30-K30 -> 0 | N30: =IF(AND(K30=0,M30=0),"0.0",IF(AND(K30=0,M30>0),"100.0",M30/K30*100)) -> 0.0
H31: 전출금 | K31: =K32 -> 0 | L31: =L32 -> 0 | M31: =L31-K31 -> 0 | N31: =IF(AND(K31=0,M31=0),"0.0",IF(AND(K31=0,M31>0),"100.0",M31/K31*100)) -> 0.0
I32: 전출금 | K32: =K33 -> 0 | L32: =L33 -> 0 | M32: =L32-K32 -> 0 | N32: =IF(AND(K32=0,M32=0),"0.0",IF(AND(K32=0,M32>0),"100.0",M32/K32*100)) -> 0.0
J33: 전출금 | K33: =[1]세출!D78 -> 0 | L33: =[1]세출!U78 -> 0 | M33: =L33-K33 -> 0 | N33: =IF(AND(K33=0,M33=0),"0.0",IF(AND(K33=0,M33>0),"100.0",M33/K33*100)) -> 0.0
H34: 차기이월금 | K34: =K35 -> 113383.74 | L34: =L35 -> 135493.75 | M34: =L34-K34 -> 22110.006 | N34: =IF(AND(K34=0,M34=0),"0.0",IF(AND(K34=0,M34>0),"100.0",M34/K34*100)) -> 19.500156
I35: 차기이월금 | K35: =K36 -> 113383.74 | L35: =L36 -> 135493.75 | M35: =L35-K35 -> 22110.006 | N35: =IF(AND(K35=0,M35=0),"0.0",IF(AND(K35=0,M35>0),"100.0",M35/K35*100)) -> 19.500156
J36: 차기이월금 | K36: =[1]세출!D83 -> 113383.74 | L36: =[1]세출!U83 -> 135493.75 | M36: =L36-K36 -> 22110.006 | N36: =IF(AND(K36=0,M36=0),"0.0",IF(AND(K36=0,M36>0),"100.0",M36/K36*100)) -> 19.500156
